{
 "version": 1.0,
 "tileBundlesPath": "./tile",
 "tileInfo": {
  "spatialReference": {
   "wkid": 3071,
   "latestWkid": 3071
  },
  "origin": {
   "x": -10000,
   "y": 1050000
  },
  "rows": 256,
  "cols": 256,
  "dpi": 96,
  "lods": [
   {
    "level": 0,
    "resolution": 2145.796291592583,
    "scale": 8110080
   },
   {
    "level": 1,
    "resolution": 1609.3472186944375,
    "scale": 6082560
   },
   {
    "level": 2,
    "resolution": 1072.8981457962916,
    "scale": 4055040
   },
   {
    "level": 3,
    "resolution": 536.4490728981458,
    "scale": 2027520
   },
   {
    "level": 4,
    "resolution": 268.2245364490729,
    "scale": 1013760
   },
   {
    "level": 5,
    "resolution": 134.11226822453645,
    "scale": 506880
   },
   {
    "level": 6,
    "resolution": 67.05613411226823,
    "scale": 253440
   },
   {
    "level": 7,
    "resolution": 33.52806705613411,
    "scale": 126720
   },
   {
    "level": 8,
    "resolution": 25.146050292100586,
    "scale": 95040
   },
   {
    "level": 9,
    "resolution": 16.764033528067056,
    "scale": 63360
   },
   {
    "level": 10,
    "resolution": 12.573025146050293,
    "scale": 47520
   },
   {
    "level": 11,
    "resolution": 8.382016764033528,
    "scale": 31680
   },
   {
    "level": 12,
    "resolution": 6.2865125730251465,
    "scale": 23760
   },
   {
    "level": 13,
    "resolution": 4.191008382016764,
    "scale": 15840
   },
   {
    "level": 14,
    "resolution": 2.095504191008382,
    "scale": 7920
   },
   {
    "level": 15,
    "resolution": 1.047752095504191,
    "scale": 3960
   },
   {
    "level": 16,
    "resolution": 0.63500127000254,
    "scale": 2400
   },
   {
    "level": 17,
    "resolution": 0.31750063500127,
    "scale": 1200
   },
   {
    "level": 18,
    "resolution": 0.158750317500635,
    "scale": 600
   }
  ],
  "format": "MIXED",
  "compressionQuality": 80,
  "bandCount": 1,
  "lercError": 0,
  "storageFormat": "esriMapCacheStorageModeCompactV2",
  "packetSize": 128
 },
 "storageInfo": {
  "packetSize": 128,
  "storageFormat": "esriMapCacheStorageModeCompactV2"
 },
 "tileImageInfo": {
  "format": "MIXED",
  "compressionQuality": 80,
  "bandCount": 1,
  "lercError": 0
 },
 "name": "WisconsinParcelCache",
 "minScale": 8110080,
 "maxScale": 600,
 "minLOD": 0,
 "maxLOD": 18,
 "spatialReference": {
  "wkid": 3071,
  "latestWkid": 3071
 },
 "units": "esriMeters",
 "serviceDescription": "",
 "resampling": true,
 "exportTilesAllowed": false,
 "initialExtent": {
  "xmin": 294887.60477520956,
  "ymin": 225105.56896113785,
  "xmax": 773288.3540767082,
  "ymax": 734392.14503429,
  "spatialReference": {
   "wkid": 3071,
   "latestWkid": 3071
  }
 },
 "fullExtent": {
  "xmin": 294887.60477520956,
  "ymin": 225105.56896113785,
  "xmax": 773288.3540767082,
  "ymax": 734392.14503429,
  "spatialReference": {
   "wkid": 3071,
   "latestWkid": 3071
  }
 },
 "currentVersion": 11.0,
 "mapName": "WisconsinParcelCache",
 "singleFusedMapCache": true,
 "type": "MapServer",
 "supportedExtensions": "",
 "capabilities": "TilesOnly,Tilemap"
}
