View In:
ArcGIS JavaScript
ArcGIS Online Map Viewer
ArcGIS Earth
Service Description: Countywide Adams 2020 (6"), 2025 (default) 3" Leaf-Off Dynamic
Name: County/Adams
Description:
Single Fused Map Cache: false
Extent:
XMin: 474859.85074616224
YMin: 99511.01144548741
XMax: 589819.8507461611
YMax: 322407.01144548506
Spatial Reference: 7587
(7587)
LatestVCSWkid(0)
Initial Extent:
XMin: 474859.85074616224
YMin: 99511.01144548741
XMax: 589819.8507461611
YMax: 322407.01144548506
Spatial Reference: 7587
(7587)
LatestVCSWkid(0)
Full Extent:
XMin: 474859.85074616224
YMin: 99511.01144548741
XMax: 589819.8507461611
YMax: 322407.01144548506
Spatial Reference: 7587
(7587)
LatestVCSWkid(0)
Pixel Size X: 0.49999999999999495
Pixel Size Y: 0.4999999999999947
Band Count: 4
Pixel Type: U8
RasterFunction Infos: {"rasterFunctionInfos": [{
"name": "None",
"description": "",
"help": ""
}]}
Mensuration Capabilities: Basic
Inspection Capabilities:
Has Histograms: true
Has Colormap: false
Has Multi Dimensions : false
Rendering Rule:
Min Scale: 0
Max Scale: 0
Copyright Text: WisDOT - WROC - Countywide Adams 2025 3" Leaf-Off Dynamic
Service Data Type: esriImageServiceDataTypeProcessed
Min Values: 0, 0, 0, 0
Max Values: 255, 255, 255, 255
Mean Values: 127.61290069321248, 127.61290069321248, 127.61290069321248, 127.61290069321248
Standard Deviation Values: 127.50003206342278, 127.50003206342278, 127.50003206342278, 127.50003206342278
Object ID Field: OBJECTID
Fields:
-
OBJECTID
(
type: esriFieldTypeOID, alias: OBJECTID
)
-
Shape
(
type: esriFieldTypeGeometry, alias: Shape
)
-
Name
(
type: esriFieldTypeString, alias: Name, length: 200
)
-
MinPS
(
type: esriFieldTypeDouble, alias: MinPS
)
-
MaxPS
(
type: esriFieldTypeDouble, alias: MaxPS
)
-
LowPS
(
type: esriFieldTypeDouble, alias: LowPS
)
-
HighPS
(
type: esriFieldTypeDouble, alias: HighPS
)
-
Category
(
type: esriFieldTypeInteger, alias: Category
, Coded Values:
[0: Unknown]
, [1: Primary]
, [2: Overview]
, ...6 more...
)
-
Tag
(
type: esriFieldTypeString, alias: Tag, length: 100
)
-
GroupName
(
type: esriFieldTypeString, alias: GroupName, length: 100
)
-
ProductName
(
type: esriFieldTypeString, alias: ProductName, length: 100
)
-
CenterX
(
type: esriFieldTypeDouble, alias: CenterX
)
-
CenterY
(
type: esriFieldTypeDouble, alias: CenterY
)
-
ZOrder
(
type: esriFieldTypeInteger, alias: ZOrder
)
-
Year
(
type: esriFieldTypeString, alias: Year, length: 255
)
-
Shape_Length
(
type: esriFieldTypeDouble, alias: Shape_Length
)
-
Shape_Area
(
type: esriFieldTypeDouble, alias: Shape_Area
)
Default Mosaic Method: Northwest
Allowed Mosaic Methods: NorthWest,Center,LockRaster,ByAttribute,Nadir,Viewpoint,Seamline,None
SortField:
SortValue: null
Mosaic Operator: First
Default Compression Quality: 75
Default Resampling Method: Bilinear
Max Record Count: 1000
Max Image Height: 15000
Max Image Width: 15000
Max Download Image Count: 20
Max Mosaic Image Count: 20
Allow Raster Function: true
Allow Copy: true
Allow Analysis: true
Allow Compute TiePoints: false
Supports Statistics: true
Supports Advanced Queries: true
Use StandardizedQueries: true
Raster Type Infos:
Name: Raster Dataset
Description: Supports all ArcGIS Raster Datasets
Help:
Has Raster Attribute Table: false
Edit Fields Info: null
Ownership Based AccessControl For Rasters: null
Child Resources:
Info
Histograms
Statistics
Key Properties
Legend
Raster Function Infos
Supported Operations:
Export Image
Query
Identify
Measure
Compute Histograms
Compute Statistics Histograms
Get Samples
Compute Class Statistics
Query GPS Info
Find Images
Image to Map
Map to Image
Measure from Image
Image to Map Multiray
Query Boundary
Compute Pixel Location
Compute Angles
Validate
Project